Workbook

Sheet PP
BK1: Protokol o příjmu vzorků / Objednávka | EL1: Termín: | FB1: Číslo zakázky:
A6: Zkušební laboratoř EUROFINS CZ Radiová 1285/7, 102 00 Praha 10 - Hostivař
BQ7: Logistika: +420 733 745 309, CZ01.logistika.cz@ftcee.eurofins.com | DU7: Klientský servis Praha: +420 778 488 111, ClientService.cz@ftcee.eurofins.com Klientský servis Brno: +420 733 745 310, CZ02.ClientService.cz@ftcee.eurofins.com
A13: Údaje o zákazníkovi a vzorku | DA13: Údaje o obsahu objednávky
A17: Název firmy 1) | CQ17: Teplota při příjmu vzorků (°C) | DA17: Požadované analýzy (včetně kódů dle platné cenové nabídky) 12)
A21: Kontaktní údaje 2) (e-mail; telefon) | FX21: Datum analýzy 13) (platí pouze pro testy skladovatelnosti) | GJ21: Jiné poznámky ke vzorku 14)
A27: Číslo objednávky 3)
A31: Adresa místa odběru 4)
A37: Číslo cenové nabídky 5)
A43: Vyhodnocení výsledků požaduji 6) | AI43: ANO | AS43: NE | BA43: Jazyková verze protokolu 7) | CE43: CZ | CK43: EN
A47: Požaduji výsledky všech vzorků na jednom protokolu o zkoušce 8) ANO / NE
A51: Číslo vzorku Eurofins | T51: Název vzorku 9) | BX51: Označení vzorku zákazníkem 10) | CQ51: Počet kusů 11)
A57: 1
A61: 2
A65: 3
A69: 4
A73: 5
A77: 6
A81: 7
A85: 8
A89: 9
A93: 10
A97: 11
A101: 12
... A113: 15
A117: Zákazník bere na vědomí, že všechny služby společnosti a zkušební laboratoře EUROFINS CZ jsou poskytovány v souladu s jejími Všeobecnými obchodními podmínkami, k dispozici na www.eurofins.cz.
A119: Zákazník souhlasí, že analýzy mohou být z kapacitních důvodů provedeny i v jiné akreditované laboratoři, a v případě nutnosti i neakreditovaným způsobem. Zákazník souhlasí s uvedením neakreditované subdodavatelské zkoušky na protokolu o zkoušce.
A121: V případě pochybnosti o vhodnosti či při nedostatečném množství vzorku ke zkoušení je zákazník kontaktován a požádán o souhlas s provedením analýz; zaznamenáno laboratoří do pole Výsledek přezkoumání. | FN121: Datum odeslání výsledků:
A123: Vzorky jsou v laboratoři uchovávány dle legislativně předepsaných podmínek skladování. Zákazník bere na vědomí, že mu dodané vzorky nebudou po analýzách vráceny.
A125: Zákazník má právo být přítomen při provádění analýz, případně výsledky analýz reklamovat. Požaduje-li výrok o shodě, souhlasí s rozhodovacím pravidlem ZL a je povinnen definovat specifikaci pro výrok.
FN126: Faktura číslo:
A127: Není-li ujednáno jinak, je dodání informace o teplotě vzorku odebraného zákazníkem, při převzetí mimo pracoviště laboratoře, odpovědností předávajícího a přebírající pracovník ZL EUROFINS CZ ji nedokumentuje.
A130: Za zákazníka objednal 15) | AO130: Za ZL EUROFINS CZ. k přepravě převzal | CE130: Příjem vzorku laboratoř EUROFINS CZ | EC130: Výsledek přezkoumání
A133: Datum | AO133: Datum a čas | CE133: Datum a čas | EC133: o | EF133: Odpovídá | FJ133: Za verifikaci zakázky odpovídá
EC136: o | EF136: Neodpovídá uveďte důvod a přiložte komunikaci se zákazníkem
A137: Jméno | AO137: Jméno | CE137: Jméno | FJ137: Datum
A141: Podpis | AO141: Podpis | CE141: Podpis | FJ141: Jméno a podpis
AO144: Pole vyplněno v okamžiku převzetí vzorku pouze na žádost zákazníka.
AO148: Legenda: | BF148: povinná pole - vyplňuje zákazník fialově podbarvená | CE148: nepovinná pole - vyplňuje zákazník šedě podbarvená | DD148: vyplňuje Eurofins - nevyplňujte bílá pole
FJ150: Formulář F66_ed_01_08_2023 | GD150: List č. .... z ....16)

Sheet PP_příloha
BK1: Protokol o příjmu vzorků / Objednávka | FB1: Číslo zakázky:
A6: EUROFINS CZ Radiová 1285/7, 102 00 Praha 10 - Hostivař | CA6: Příloha
A13: Údaje o zákazníkovi a vzorku | CQ13: Jiné poznámky ke vzorku
A17: Název firmy 1) | T17: =PP!T17 -> 0 | CQ17: Číslo šarže | DB17: Datum výroby | DL17: Spotřebujte do | DX17: Minimální trvanlivost do | EI17: Hmotnost / objem | ET17: Výrobce | FE17: Dodavatel | FP17: EAN kód | GA17: Země původu | GL17: Doplňkové informace ke vzorku
A21: Číslo vzorku Eurofins | T21: Název vzorku 9) | BX21: Označení vzorku zákazníkem 10)
A27: 1 | D27: =PP!D57 -> 0 | T27: =PP!T57 -> 0 | BX27: =PP!BX57 -> 0
A31: 2 | D31: =PP!D61 -> 0 | T31: =PP!T61 -> 0 | BX31: =PP!BX61 -> 0
A35: 3 | D35: =PP!D65 -> 0 | T35: =PP!T65 -> 0 | BX35: =PP!BX65 -> 0
A39: 4 | D39: =PP!D69 -> 0 | T39: =PP!T69 -> 0 | BX39: =PP!BX69 -> 0
A43: 5 | D43: =PP!D73 -> 0 | T43: =PP!T73 -> 0 | BX43: =PP!BX73 -> 0
A47: 6 | D47: =PP!D77 -> 0 | T47: =PP!T77 -> 0 | BX47: =PP!BX77 -> 0
A51: 7 | D51: =PP!D81 -> 0 | T51: =PP!T81 -> 0 | BX51: =PP!BX81 -> 0
A55: 8 | D55: =PP!D85 -> 0 | T55: =PP!T85 -> 0 | BX55: =PP!BX85 -> 0
A59: 9 | D59: =PP!D89 -> 0 | T59: =PP!T89 -> 0 | BX59: =PP!BX89 -> 0
A63: 10 | D63: =PP!D93 -> 0 | T63: =PP!T93 -> 0 | BX63: =PP!BX93 -> 0
A67: 11 | D67: =PP!D97 -> 0 | T67: =PP!T97 -> 0 | BX67: =PP!BX97 -> 0
A71: 12 | D71: =PP!D101 -> 0 | T71: =PP!T101 -> 0 | BX71: =PP!BX101 -> 0
... A83: 15 | D83: =PP!D113 -> 0 | T83: =PP!T113 -> 0 | BX83: =PP!BX113 -> 0

Sheet PP_pokyny k vyplnění
A1: Pokyny a informace k vyplnění Protokolu o příjmu / Objednávky
A3: Vzorky dodané bez Protokolu o příjmu / Objednávky či s nekompletními povinnými informacemi nemohou být obratem zpracovány a budou uloženy na příjmu vzorků do okamžiku dodání informací nutných pro registraci zakázky. Termín dodání výsledků se pak odvíjí od okamžiku dodání kompletních informací.
A4: Protokol o příjmu / Objednávku zasílejte elektronicky na adresu ClientService.cz@ftcee.eurofins.com nejpozději do 9:30 v den svozu vzorků. U později dodaných Protokolů o příjmu / Objednávek nemůže být zaručeno zpracování ve stejný pracovní den. Pro sjednání speciálních podmínek času dodání podkladů k registraci vzorků v den svozu prosím kontaktujte ClientService.cz@ftcee.eurofins.com. Protokol o příjmu / Objednávku přiložte také v papírové podobě ke vzorkům.
A5: Vzorky musí být na základě jejich označení možno jasně spárovat s jejich Názvy či Označením vzorku zákazníkem v Protokolu o příjmu / Objednávce.
A6: Bez předchozí konzultace je možné objednat pouze analýzy uvedené v cenové nabídce zákazníka. Pro poptávku analýz, které se ve Vaší cenové nabídce nenachází, kontaktujte obchodní oddělení na adrese Info.cz@ftcee.eurofins.com. S doručením vzorků v takovém případě počkejte do obdržení aktualizované cenové nabídky.
A8: Při vyplňování Protokolu o příjmu / Objednávky se, prosím, řiďte níže uvedenými vysvětlivkami jednotlivých polí.
A9: povinná pole - vyplňuje zákazník - fialově podbarvená (viz. Legenda na listu PP)
A11: 1) Název firmy dle obchodního rejstříku
A12: 2) Aktuální kontaktní údaje zadavatele pro případnou konzultaci zakázky. Kontaktní údaje pro konzultaci konkrétních požadavků zakázky nemusí souviset s kontaktem pro zasílání protokolů o zkoušce. Protokoly o zkoušce budou zaslány na kontaktní údaje uvedené při sjednání podmínek cenové nabídky. Pokud máte zájem o trvalou změnu kontaktů pro zasílání protokolů a faktur, kontaktujte obchodní oddělení na adrese Info.cz@ftcee.eurofins.com.
A13: 3) Číslo objednávky - uveďte, pokud tuto vaši identifikaci zakázky požadujete na protokolu o zkoušce a na faktuře
A14: 4) Místo odběru vyplňte pouze je-li relevantní a požadujete jeho výslovné uvedení na výsledkovém protokolu o zkoušce.
A15: 5) Číslo cenové nabídky naleznete v záhlaví své cenové nabídky.
... A26: 16) Uveďte počet listů objednávky. Budete-li objednávat více než 15 vzorků, vytvořte další soubor, očíslujte listy podle počtu souborů a přečíslujte pořadí vzorků.

Sheet Výrok o shodě
A1: Informace pro klienty - výrok o shodě a rozhodovací pravidlo
A2: Zkušební laboratoř EUROFINS CZ v případě výroku o shodě aplikuje následující rozhodovací pravidla.
A3: Zkušební laboratoř EUROFINS CZ provádí výrok o shodě pouze v rozsahu zkoušek pro které má platnou akreditaci
A4: a které byly touto laboratoří provedeny.
A6: 1) ZL nezohledňuje vliv nejistoty měření vyplývající se vzorkování.
A8: 2) Mikrobiologické a senzorické zkoušky - rozhodovací pravidlo:
A9: Zkušební laboratoř provádí výrok o shodě ve vztahu k požadavkům platných právních předpisů České Repubbliky a EU definujících
A10: mikrobiologická kritéria na produkty, které jsou předmětem analýz.
A11: Tyto předpisy rozhodovací pravidlo nespecifikují.
A12: Laboratoř proto aplikuje binární rozhodovací pravidlo jednoduchého přijetí dle ILAC G8:2018, kap.4.2.1.
A13: Výrok : vyhovuje/nevyhovuje.
A14: Výrok učiněný v těchto případech laboratoří EUROFINS CZ nezohledňuje nejistotu měření.
... A31: souhlasu ZL není výrok dle rozhodovacího pravidla klienta proveden.
