{"text_format":"1","workbook":"xlsx","n_sheets":8,"sheets":["Stamdata","Jord Region H","Grundvand Region H","Overfladevand Region H","LUFT-orsarør Region H","Luft-kulrør Region H","Luft-ATD Region H","Jord Arkivprøver Region H"],"not_rendered":{"charts":0,"images":1,"macros":1,"external_links":0,"defined_names":24,"comments":0,"pivot_tables":0},"unopened":[],"bounds":{"document_bytes":16777216,"sheet_cells":100000,"rows_first":2000,"rows_last":500,"rows_between":2000,"halvings":0,"cell_chars":16384,"cell_head_chars":4096},"cells_cut":0,"cells_raw":0,"read":"whole","date_system":"1900"}

{"sheet":"Stamdata","index":0,"n_rows":15,"n_cols":19,"rows_kept":15,"cut":false,"hidden":false,"merged":[[1,6,3,16],[2,17,3,24],[3,1,3,2],[4,16,4,24],[5,0,5,1],[5,2,5,14],[3,3,3,5],[5,16,5,24],[6,0,6,1],[6,2,6,14],[6,16,6,19],[6,20,6,24],[7,0,7,1],[7,2,7,14],[7,16,7,24],[8,0,8,1],[8,2,8,14],[8,16,8,24],[9,0,9,1],[9,2,9,14],[9,16,9,24],[10,0,10,1],[10,2,10,14],[10,16,10,24],[11,0,11,1],[11,2,11,14],[11,16,11,24],[14,20,14,24],[12,0,12,1],[12,2,12,14],[12,16,12,24],[13,1,13,2],[13,4,13,9],[13,10,13,17],[13,18,13,24],[14,1,14,2],[14,4,14,9],[14,10,14,12],[14,13,14,17],[14,18,14,19]]}
["Analyserekvisition Region Hovedstaden"]
["Prøveafhentning bestilles på tlf: 70 22 42 67 eller 98 21 32 00",null,null,null,null,null,"Stamdata"]
[null,null,null,null,null,null,null,null,null,null,null,null,null,null,null,null,null,"      Kontakt Eurofins Tlf. 72 18 72 72                                                         Rekv. mail: 60-reg@eurofins.dk"]
["Tilbuds-/ordrenr.: ","CA0000213",null,"Regionskontrakt 2024-2027"]
["Rekvirent",null,"Rapport sendes til:",null,null,null,null,null,null,null,null,null,null,null,null,null,"Faktura stiles til:"]
["Firma:",null,null,null,null,null,null,null,null,null,null,null,null,null,null,null,"Region Hovedstaden"]
["Kontaktperson:",null,null,null,null,null,null,null,null,null,null,null,null,null,null,null,"Faktura /Personref.:"]
["Adresse:"]
["Postnr./By:"]
["Tlf/mobil:"]
["E-mail:"]
["Evt. kopi til:"]
["EAN nr.: "]
["Lokalitetsnr:",null,null,"Sagsnr: ",null,null,null,null,null,null,"Lokalitetsnavn/Sagsnavn:"]
["Prøver udtaget den:",null,null,"Indlev. d.:",null,null,null,null,null,null,"Prøvetager:",null,null,null,null,null,null,null,"Antal prøver:"]

{"sheet":"Jord Region H","index":1,"n_rows":36,"n_cols":25,"rows_kept":36,"cut":false,"hidden":false,"merged":[[25,2,25,3],[25,4,25,5],[25,6,25,7],[25,8,25,9],[14,10,14,14],[14,16,14,19],[14,20,14,22],[14,23,14,24],[25,14,25,16],[23,2,23,3],[23,4,23,5],[23,6,23,7],[23,8,23,9],[23,10,23,11],[23,12,23,13],[25,10,25,11],[25,12,25,13],[27,8,27,9],[27,10,27,11],[27,12,27,13],[27,14,27,16],[26,8,26,9],[28,8,28,9],[28,10,28,11],[28,12,28,13],[26,12,26,13],[31,0,31,24],[29,6,29,7],[29,8,29,9],[29,10,29,11],[29,12,29,13],[29,14,29,16],[13,1,13,2],[13,4,13,9],[28,2,28,3],[28,4,28,5],[28,6,28,7],[26,10,26,11],[26,6,26,7],[28,14,28,16],[24,2,24,3],[24,4,24,5],[24,6,24,7],[24,8,24,9],[24,10,24,11],[24,12,24,13],[24,14,24,16],[27,2,27,3],[27,4,27,5],[27,6,27,7],[11,16,11,24],[12,16,12,24],[17,2,17,3],[13,10,13,17],[22,2,22,3],[22,4,22,5],[22,6,22,7],[16,24,18,24],[16,23,18,23],[16,17,18,17],[16,18,18,18],[13,18,13,24],[3,1,3,2],[5,0,5,1],[10,2,10,14],[8,0,8,1],[1,6,3,16],[2,17,3,24],[5,2,5,14],[4,16,4,24],[6,16,6,19],[6,20,6,24],[7,16,7,24],[8,16,8,24],[9,16,9,24],[10,16,10,24],[3,3,3,5],[5,16,5,24],[12,0,12,1],[16,10,18,11],[6,0,6,1],[7,0,7,1],[18,2,18,3],[16,2,16,3],[10,0,10,1],[6,2,6,14],[7,2,7,14],[8,2,8,14],[9,2,9,14],[14,1,14,2],[9,0,9,1],[11,0,11,1],[14,4,14,9],[15,0,15,2],[34,0,34,24],[35,0,35,24],[16,6,18,7],[16,8,18,9],[15,6,15,9],[15,10,15,13],[20,2,20,3],[20,4,20,5],[20,6,20,7],[20,8,20,9],[20,10,20,11],[20,12,20,13],[21,2,21,3],[22,8,22,9],[22,10,22,11],[22,12,22,13],[22,14,22,16],[26,2,26,3],[16,20,18,20],[20,14,20,16],[15,14,15,18],[16,19,18,19],[26,14,26,16],[26,4,26,5],[33,0,33,24],[16,21,18,21],[16,22,18,22],[11,2,11,14],[12,2,12,14],[21,4,21,5],[21,6,21,7],[21,8,21,9],[21,10,21,11],[21,12,21,13],[21,14,21,16],[30,2,30,3],[30,4,30,5],[30,6,30,7],[30,8,30,9],[30,10,30,11],[16,12,18,13],[16,14,18,16],[16,4,18,5],[23,14,23,16],[30,12,30,13],[29,2,29,3],[29,4,29,5],[30,14,30,16]]}
["Analyserekvisition Region Hovedstaden"]
["Prøveafhentning bestilles på tlf: 70 22 42 67 eller 98 21 32 00",null,null,null,null,null,"JORD"]
[null,null,null,null,null,null,null,null,null,null,null,null,null,null,null,null,null,"       Kontakt Eurofins Tlf. 72 18 72 72                                                              Rekv. mail: 60-reg@eurofins.dk"]
["Tilbuds-/ordrenr.: ","CA0000213008",null,"Regionskontrakt      2024-2027"]
["Rekvirent",null,"Rapport sendes til:",null,null,null,null,null,null,null,null,null,null,null,null,null,"Faktura stiles til:"]
["Firma:",null,{"$f":"Stamdata!C6&\"\"","v":""},null,null,null,null,null,null,null,null,null,null,null,null,null,"Region Hovedstaden"]
["Kontaktperson:",null,{"$f":"Stamdata!C7&\"\"","v":""},null,null,null,null,null,null,null,null,null,null,null,null,null,"Faktura /Personref.:",null,null,null,{"$f":"Stamdata!U7&\"\"","v":""}]
["Adresse:",null,{"$f":"Stamdata!C8&\"\"","v":""},null,null,null,null,null,null,null,null,null,null,null,null,null,{"$f":"Stamdata!Q8&\"\"","v":""}]
["Postnr./By:",null,{"$f":"Stamdata!C9&\"\"","v":""},null,null,null,null,null,null,null,null,null,null,null,null,null,{"$f":"Stamdata!Q9&\"\"","v":""}]
["Tlf/mobil:",null,{"$f":"Stamdata!C10&\"\"","v":""},null,null,null,null,null,null,null,null,null,null,null,null,null,{"$f":"Stamdata!Q10&\"\"","v":""}]
["E-mail:",null,{"$f":"Stamdata!C11&\"\"","v":""},null,null,null,null,null,null,null,null,null,null,null,null,null,{"$f":"Stamdata!Q11&\"\"","v":""}]
["Evt. kopi til:",null,{"$f":"Stamdata!C12&\"\"","v":""},null,null,null,null,null,null,null,null,null,null,null,null,null,{"$f":"Stamdata!Q12&\"\"","v":""}]
["EAN nr.: ",null,{"$f":"Stamdata!C13 &\"\"","v":""},null,null,null,null,null,null,null,null,null,null,null,null,null,{"$f":"Stamdata!Q13 &\"\"","v":""}]
["Lokalitetsnr:",{"$f":"Stamdata!B14 &\"\"","v":""},null,"Sagsnr: ",{"$f":"Stamdata!E14&\"\"","v":""},null,null,null,null,null,"Lokalitetsnavn/Sagsnavn:",null,null,null,null,null,null,null,{"$f":"Stamdata!S14&\"\"","v":""}]
["Udtaget (datotid):",{"$f":"IF(Stamdata!B15=0,\"\",Stamdata!B15)","v":""},null,"Indlev. d.:",{"$f":"IF(Stamdata!E15=0,\"\",Stamdata!E15)","v":""},null,null,null,null,null,"Prøvetager:",null,null,null,null,null,{"$f":"Stamdata!N15&\"\"","v":""},null,null,null,"Antal prøver:",null,null,{"$f":"Stamdata!U15&\"\"","v":""}]
["Prøver forventes at være kraftigt forurenet?"]
["Leveringstidskoder:",null,null,null,"STD.",null,"STD.",null,"STD.",null,"STD.",null,"STD.",null,"STD.",null,null,"STD.","STD.","STD.","STD.","STD.","STD.","2 Arb.dag kl.9.00 *","2 Arb.dag kl.9.00 *"]
[]
[null,null,null,null,null,null,null,null,null,null,null,null,null,null,null,null,null,null,null,null,null,null,null,"1 arb.dag kl 12 (R011200)","2 arb.dag kl 12 (R011200)"]
[]
["Glassene må max. fyldes 1/3( ca. 50 g).  Påsæt stregkodelabels. Husk samme stregkodelabel til samme prøve.",null,"Jordprøver gemmes i 8 uger efter analyse",null,"Manuel Håndtering pr. batch",null,"pakkenr/navn",null,"pakkenr/navn",null,"pakkenr/navn",null,"pakkenr/navn",null,"pakkenr/navn",null,null,"pakkenr/navn","pakkenr/navn","pakkenr/navn","pakkenr/navn","pakkenr/navn","pakkenr/navn","HASTE pakkenr/navn","HASTE pakkenr/navn"]
["Lab. nr.                            (udfyldes af lab.)","Dybde m.u.t. (CAR00)","PrøvestedID \n(boringsnr/DGU/prøvestedsnavn)",null,"CAYMA",null,"kode",null,"kode",null,"kode",null,"kode",null,"kode",null,null,"kode","kode","kode","kode","kode","kode","kode","kode"]
[null,null,null,null,"x"]
[]
[]
[]
[]
[]
[]
[]
[]
["Bemærkninger: "]
["* 2 Arb.dag kl 9 (R020800). Hasteprøver skal altid varsles."]
["Se Regionens tilbudsskema for analyser/priser/leveringstider eller kontakt Eurofins Kundecenter på WQM@etn.eurofins.com eller 72 18 72 72"]
["Vær opmærksom på at det vil være den analyse med længste leveringstid, der vil være gældende for hele prøvens leveringstid. Dermed også hastetillæg ved bestilling af hasteanalyser. "]
["Vær opmærksom på at såfremt prøver ikke udtages i korrekt emballage eller hvis der ikke udtages tilstrækkeligt prøvemateriale til de bestilte analyser, vil der ikke være mulighed for omkørsel eller reanalyse – hvis der skulle blive behov for ny prøvetagning, vil Eurofins ikke forestå omkostningerne til en ny prøveudtagning."]

{"sheet":"Grundvand Region H","index":2,"n_rows":37,"n_cols":25,"rows_kept":37,"cut":false,"hidden":false,"merged":[[31,14,31,16],[31,4,31,5],[31,6,31,7],[31,8,31,9],[31,10,31,11],[31,12,31,13],[29,14,29,16],[18,0,18,2],[14,23,14,24],[14,14,14,19],[30,4,30,5],[30,6,30,7],[30,8,30,9],[30,10,30,11],[30,12,30,13],[30,14,30,16],[29,4,29,5],[29,6,29,7],[29,8,29,9],[29,10,29,11],[29,12,29,13],[27,14,27,16],[28,4,28,5],[28,6,28,7],[28,8,28,9],[28,10,28,11],[28,12,28,13],[28,14,28,16],[27,4,27,5],[27,6,27,7],[27,8,27,9],[27,10,27,11],[27,12,27,13],[25,14,25,16],[26,4,26,5],[26,6,26,7],[26,8,26,9],[26,10,26,11],[26,12,26,13],[26,14,26,16],[25,4,25,5],[25,6,25,7],[25,8,25,9],[25,10,25,11],[25,12,25,13],[23,12,23,13],[23,14,23,16],[18,4,21,5],[18,6,21,7],[18,8,21,9],[18,10,21,11],[18,12,21,13],[24,4,24,5],[24,6,24,7],[24,8,24,9],[24,10,24,11],[24,12,24,13],[24,14,24,16],[23,4,23,5],[23,6,23,7],[23,8,23,9],[23,10,23,11],[18,14,21,16],[18,17,21,17],[18,18,21,18],[18,19,21,19],[18,20,21,20],[18,22,21,22],[17,20,17,24],[15,3,15,5],[15,11,15,16],[16,11,16,16],[18,23,21,23],[18,24,21,24],[19,2,19,3],[21,2,21,3],[18,21,21,21],[16,20,16,24],[1,6,3,16],[2,17,3,24],[3,1,3,2],[4,16,4,24],[5,0,5,1],[5,2,5,14],[6,0,6,1],[6,2,6,14],[6,16,6,19],[3,3,3,5],[5,16,5,24],[14,4,14,9],[6,20,6,24],[7,0,7,1],[7,2,7,14],[7,16,7,24],[12,0,12,1],[12,2,12,14],[12,16,12,24],[13,1,13,2],[13,4,13,9],[13,10,13,17],[13,18,13,24],[10,0,10,1],[10,2,10,14],[10,16,10,24],[11,0,11,1],[11,2,11,14],[11,16,11,24],[14,1,14,2],[32,0,32,24],[36,0,36,24],[35,0,35,24],[34,0,34,24],[16,3,16,5],[8,0,8,1],[8,2,8,14],[8,16,8,24],[9,0,9,1],[9,2,9,14],[9,16,9,24],[15,0,15,1],[15,6,15,10],[16,6,16,10],[17,6,17,10],[17,17,17,19],[16,17,16,19],[15,17,15,19],[14,20,14,22],[14,10,14,13],[17,3,17,5],[23,2,23,3],[17,11,17,16],[15,20,15,24]]}
["Analyserekvisition Region Hovedstaden"]
["Prøveafhentning bestilles på tlf: 70 22 42 67 eller 98 21 32 00",null,null,null,null,null,"Grundvand"]
[null,null,null,null,null,null,null,null,null,null,null,null,null,null,null,null,null,"       Kontakt Eurofins Tlf. 72 18 72 72                                                               Rekv. mail: 60-reg@eurofins.dk"]
["Tilbuds-/ordrenr.: ","CA0000213026",null,"Regionskontrakt      2024-2027"]
["Rekvirent",null,"Rapport sendes til:",null,null,null,null,null,null,null,null,null,null,null,null,null,"Faktura stiles til:"]
["Firma:",null,{"$f":"Stamdata!C6&\"\"","v":""},null,null,null,null,null,null,null,null,null,null,null,null,null,"Region Hovedstaden"]
["Kontaktperson:",null,{"$f":"Stamdata!C7&\"\"","v":""},null,null,null,null,null,null,null,null,null,null,null,null,null,"Faktura /Personref.:",null,null,null,{"$f":"Stamdata!U7&\"\"","v":""}]
["Adresse:",null,{"$f":"Stamdata!C8&\"\"","v":""},null,null,null,null,null,null,null,null,null,null,null,null,null,{"$f":"Stamdata!Q8&\"\"","v":""}]
["Postnr./By:",null,{"$f":"Stamdata!C9&\"\"","v":""},null,null,null,null,null,null,null,null,null,null,null,null,null,{"$f":"Stamdata!Q9&\"\"","v":""}]
["Tlf/mobil:",null,{"$f":"Stamdata!C10&\"\"","v":""},null,null,null,null,null,null,null,null,null,null,null,null,null,{"$f":"Stamdata!Q10&\"\"","v":""}]
["E-mail:",null,{"$f":"Stamdata!C11&\"\"","v":""},null,null,null,null,null,null,null,null,null,null,null,null,null,{"$f":"Stamdata!Q11&\"\"","v":""}]
["Evt. kopi til:",null,{"$f":"Stamdata!C12&\"\"","v":""},null,null,null,null,null,null,null,null,null,null,null,null,null,{"$f":"Stamdata!Q12&\"\"","v":""}]
["EAN nr.: ",null,{"$f":"Stamdata!C13 &\"\"","v":""},null,null,null,null,null,null,null,null,null,null,null,null,null,{"$f":"Stamdata!Q13 &\"\"","v":""}]
["Lokalitetsnr:",{"$f":"Stamdata!B14&\"\"","v":""},null,"Sagsnr: ",{"$f":"Stamdata!E14&\"\"","v":""},null,null,null,null,null,"Lokalitetsnavn/Sagsnavn:",null,null,null,null,null,null,null,{"$f":"Stamdata!S14&\"\"","v":""}]
["Udtaget (datotid):",{"$f":"IF(Stamdata!B15=0,\"\",Stamdata!B15)","v":""},null,"Indlev. d.:",{"$f":"IF(Stamdata!E15=0,\"\",Stamdata!E15)","v":""},null,null,null,null,null,"Prøvetager:",null,null,null,{"$f":"Stamdata!N15&\"\"","v":""},null,null,null,null,null,"Antal prøver:",null,null,{"$f":"Stamdata!U15&\"\"","v":""}]
["Feltdata (kun v. en prøve):",null,"Temp °C (CAR7C) :",null,null,null,"pH (CAR90):",null,null,null,null,null,null,null,null,null,null,"Ledn mS/m (CAR9A): "]
["Ilt mg/l (CAR8K):",null,"Ilt % (CAR8G):",null,null,null,"Redox mV (CAR8X):",null,null,null,null,null,null,null,null,null,null,"Pumpeydelse m3/h (CAR0P):"]
["Forpumpning L (CAR0K):",null,"Pejlepunkt m (CAR0L):",null,null,null,"Pejling ro m.u.mp. (CAR0M):",null,null,null,null,null,null,null,null,null,null,"Pejling i drift m.u.m.p (CAR0N):"]
["Prøver forventes at være kraftigt forurenet?",null,null,null,"STD.",null,"STD.",null,"STD.",null,"STD.",null,"STD.",null,"STD.",null,null,"STD.","STD.","STD.","STD.","STD.","STD.","2 Arb.dag kl.9.00 *","2 Arb.dag kl.9.00 *"]
["Leveringstidskoder:"]
["Omfangskode:","0"]
["Formålskode: ","20",null,null,null,null,null,null,null,null,null,null,null,null,null,null,null,null,null,null,null,null,null,"1 arb.dag kl 12 (R011200)","2 arb.dag kl 12 (R011200)"]
["Formålskode: ","20"]
[null,null,"Vandprøver gemmes 7 dage efter analyse",null,"Manuel Håndtering pr. batch",null,"pakkenr/navn",null,"pakkenr/navn",null,"pakkenr/navn",null,"pakkenr/navn",null,"pakkenr/navn",null,null,"pakkenr/navn","pakkenr/navn","pakkenr/navn","pakkenr/navn","pakkenr/navn","pakkenr/navn","HASTE pakkenr/navn","HASTE pakkenr/navn"]
["Lab. nr.                            (udfyldes af lab.)","Boringsnr.","DGU-nr.","Filternr","CAYMA",null,"kode",null,"kode",null,"kode",null,"kode",null,"kode",null,null,"kode","kode","kode","kode","kode","kode","kode","kode"]
[null,null,null,null,"x"]
[]
[]
[]
[]
[]
[]
["Bemærkninger: "]
["* 2 Arb.dag kl 9 (R020800). Hasteprøver skal altid varsles."]
["Se Regionens tilbudsskema for analyser/priser/leveringstider eller kontakt Eurofins Kundecenter på WQM@etn.eurofins.com eller 72 18 72 72"]
["Vær opmærksom på at det vil være den analyse med længste leveringstid, der vil være gældende for hele prøvens leveringstid. Dermed også hastetillæg ved bestilling af hasteanalyser. "]
["Vær opmærksom på at såfremt prøver ikke udtages i korrekt emballage eller hvis der ikke udtages tilstrækkeligt prøvemateriale til de bestilte analyser, vil der ikke være mulighed for omkørsel eller reanalyse – hvis der skulle blive behov for ny prøvetagning, vil Eurofins ikke forestå omkostningerne til en ny prøveudtagning."]

{"sheet":"Overfladevand Region H","index":3,"n_rows":37,"n_cols":25,"rows_kept":37,"cut":false,"hidden":false,"merged":[[29,1,29,3],[30,1,30,3],[31,1,31,3],[32,0,32,24],[34,0,34,24],[35,0,35,24],[36,0,36,24],[24,1,24,3],[25,1,25,3],[26,1,26,3],[27,1,27,3],[28,1,28,3],[31,4,31,5],[31,6,31,7],[31,8,31,9],[31,10,31,11],[31,12,31,13],[31,14,31,16],[30,4,30,5],[30,6,30,7],[30,8,30,9],[30,10,30,11],[30,12,30,13],[30,14,30,16],[29,4,29,5],[29,6,29,7],[29,8,29,9],[29,10,29,11],[29,12,29,13],[29,14,29,16],[28,4,28,5],[28,6,28,7],[28,8,28,9],[28,10,28,11],[28,12,28,13],[28,14,28,16],[27,4,27,5],[27,6,27,7],[27,8,27,9],[27,10,27,11],[27,12,27,13],[27,14,27,16],[26,4,26,5],[26,6,26,7],[26,8,26,9],[26,10,26,11],[26,12,26,13],[26,14,26,16],[25,4,25,5],[25,6,25,7],[25,8,25,9],[25,10,25,11],[25,12,25,13],[25,14,25,16],[23,12,23,13],[23,14,23,16],[24,4,24,5],[24,6,24,7],[24,8,24,9],[24,10,24,11],[24,12,24,13],[24,14,24,16],[18,22,21,22],[18,23,21,23],[18,24,21,24],[19,2,19,3],[21,2,21,3],[23,2,23,3],[23,4,23,5],[23,6,23,7],[23,8,23,9],[23,10,23,11],[18,14,21,16],[18,17,21,17],[18,18,21,18],[18,19,21,19],[18,20,21,20],[18,21,21,21],[18,0,18,2],[18,4,21,5],[18,6,21,7],[18,8,21,9],[18,10,21,11],[18,12,21,13],[16,3,16,5],[16,6,16,10],[16,11,16,16],[16,17,16,19],[16,20,16,24],[17,3,17,5],[17,6,17,10],[17,11,17,16],[17,17,17,19],[17,20,17,24],[15,0,15,1],[15,3,15,5],[15,6,15,10],[15,11,15,16],[15,17,15,19],[15,20,15,24],[14,1,14,2],[14,4,14,9],[14,10,14,13],[14,14,14,19],[14,20,14,22],[14,23,14,24],[12,0,12,1],[12,2,12,14],[12,16,12,24],[13,1,13,2],[13,4,13,9],[13,10,13,17],[13,18,13,24],[10,0,10,1],[10,2,10,14],[10,16,10,24],[11,0,11,1],[11,2,11,14],[11,16,11,24],[9,0,9,1],[9,2,9,14],[9,16,9,24],[6,0,6,1],[6,2,6,14],[6,16,6,19],[6,20,6,24],[7,0,7,1],[7,2,7,14],[7,16,7,24],[1,6,3,16],[2,17,3,24],[3,1,3,2],[3,3,3,5],[4,16,4,24],[5,0,5,1],[5,2,5,14],[5,16,5,24],[8,0,8,1],[8,2,8,14],[8,16,8,24]]}
["Analyserekvisition Region Hovedstaden"]
["Prøveafhentning bestilles på tlf: 70 22 42 67 eller 98 21 32 00",null,null,null,null,null,"Overfladevand"]
[null,null,null,null,null,null,null,null,null,null,null,null,null,null,null,null,null,"       Kontakt Eurofins Tlf. 72 18 72 72                                                               Rekv. mail: 60-reg@eurofins.dk"]
["Tilbuds-/ordrenr.: ","CA0000213019",null,"Regionskontrakt      2024-2027"]
["Rekvirent",null,"Rapport sendes til:",null,null,null,null,null,null,null,null,null,null,null,null,null,"Faktura stiles til:"]
["Firma:",null,{"$f":"Stamdata!C6&\"\"","v":""},null,null,null,null,null,null,null,null,null,null,null,null,null,"Region Hovedstaden"]
["Kontaktperson:",null,{"$f":"Stamdata!C7&\"\"","v":""},null,null,null,null,null,null,null,null,null,null,null,null,null,"Faktura /Personref.:",null,null,null,{"$f":"Stamdata!U7&\"\"","v":""}]
["Adresse:",null,{"$f":"Stamdata!C8&\"\"","v":""},null,null,null,null,null,null,null,null,null,null,null,null,null,{"$f":"Stamdata!Q8&\"\"","v":""}]
["Postnr./By:",null,{"$f":"Stamdata!C9&\"\"","v":""},null,null,null,null,null,null,null,null,null,null,null,null,null,{"$f":"Stamdata!Q9&\"\"","v":""}]
["Tlf/mobil:",null,{"$f":"Stamdata!C10&\"\"","v":""},null,null,null,null,null,null,null,null,null,null,null,null,null,{"$f":"Stamdata!Q10&\"\"","v":""}]
["E-mail:",null,{"$f":"Stamdata!C11&\"\"","v":""},null,null,null,null,null,null,null,null,null,null,null,null,null,{"$f":"Stamdata!Q11&\"\"","v":""}]
["Evt. kopi til:",null,{"$f":"Stamdata!C12&\"\"","v":""},null,null,null,null,null,null,null,null,null,null,null,null,null,{"$f":"Stamdata!Q12&\"\"","v":""}]
["EAN nr.: ",null,{"$f":"Stamdata!C13 &\"\"","v":""},null,null,null,null,null,null,null,null,null,null,null,null,null,{"$f":"Stamdata!Q13 &\"\"","v":""}]
["Lokalitetsnr:",{"$f":"Stamdata!B14&\"\"","v":""},null,"Sagsnr: ",{"$f":"Stamdata!E14&\"\"","v":""},null,null,null,null,null,"Lokalitetsnavn/Sagsnavn:",null,null,null,null,null,null,null,{"$f":"Stamdata!S14&\"\"","v":""}]
["Udtaget (datotid):",{"$f":"IF(Stamdata!B15=0,\"\",Stamdata!B15)","v":""},null,"Indlev. d.:",{"$f":"IF(Stamdata!E15=0,\"\",Stamdata!E15)","v":""},null,null,null,null,null,"Prøvetager:",null,null,null,{"$f":"Stamdata!N15&\"\"","v":""},null,null,null,null,null,"Antal prøver:",null,null,{"$f":"Stamdata!U15&\"\"","v":""}]
["Feltdata (kun v. en prøve):",null,"Temp °C (CAR7C) :",null,null,null,"pH (CAR90):",null,null,null,null,null,null,null,null,null,null,"Ledn mS/m (CAR9A): "]
["Ilt mg/l (CAR8K):",null,"Ilt % (CAR8G):",null,null,null,"Redox mV (CAR8X):",null,null,null,null,null,null,null,null,null,null,"Pumpeydelse m3/h (CAR0P):"]
["Forpumpning L (CAR0K):",null,"Pejlepunkt m (CAR0L):",null,null,null,"Pejling ro m.u.mp. (CAR0M):",null,null,null,null,null,null,null,null,null,null,"Pejling i drift m.u.m.p (CAR0N):"]
["Prøver forventes at være kraftigt forurenet?",null,null,null,"STD.",null,"STD.",null,"STD.",null,"STD.",null,"STD.",null,"STD.",null,null,"STD.","STD.","STD.","STD.","STD.","STD.","2 Arb.dag kl.9.00 *","2 Arb.dag kl.9.00 *"]
["Leveringstidskoder:"]
[]
[null,null,null,null,null,null,null,null,null,null,null,null,null,null,null,null,null,null,null,null,null,null,null,"1 arb.dag kl 12 (R011200)","2 arb.dag kl 12 (R011200)"]
["Formålskode: ","20"]
[null,null,"Vandprøver gemmes 7 dage efter analyse",null,"Manuel Håndtering pr. batch",null,"pakkenr/navn",null,"pakkenr/navn",null,"pakkenr/navn",null,"pakkenr/navn",null,"pakkenr/navn",null,null,"pakkenr/navn","pakkenr/navn","pakkenr/navn","pakkenr/navn","pakkenr/navn","pakkenr/navn","HASTE pakkenr/navn","HASTE pakkenr/navn"]
["Lab. nr.                            (udfyldes af lab.)","PrøvestedID \n(boringsnr/DGU/prøvestedsnavn)",null,null,"CAYMA",null,"kode",null,"kode",null,"kode",null,"kode",null,"kode",null,null,"kode","kode","kode","kode","kode","kode","kode","kode"]
[null,null,null,null,"x"]
[]
[]
[]
[]
[]
[]
["Bemærkninger: "]
["* 2 Arb.dag kl 9 (R020800). Hasteprøver skal altid varsles."]
["Se Regionens tilbudsskema for analyser/priser/leveringstider eller kontakt Eurofins Kundecenter på WQM@etn.eurofins.com eller 72 18 72 72"]
["Vær opmærksom på at det vil være den analyse med længste leveringstid, der vil være gældende for hele prøvens leveringstid. Dermed også hastetillæg ved bestilling af hasteanalyser. "]
["Vær opmærksom på at såfremt prøver ikke udtages i korrekt emballage eller hvis der ikke udtages tilstrækkeligt prøvemateriale til de bestilte analyser, vil der ikke være mulighed for omkørsel eller reanalyse – hvis der skulle blive behov for ny prøvetagning, vil Eurofins ikke forestå omkostningerne til en ny prøveudtagning."]

{"sheet":"LUFT-orsarør Region H","index":4,"n_rows":35,"n_cols":25,"rows_kept":35,"cut":false,"hidden":false,"merged":[[30,0,30,24],[32,0,32,24],[33,0,33,24],[34,0,34,24],[21,4,21,11],[22,4,23,11],[24,4,25,11],[26,4,27,11],[28,4,29,11],[28,19,29,19],[28,20,29,20],[28,21,29,21],[28,22,29,22],[28,23,29,23],[28,24,29,24],[26,24,27,24],[28,0,29,0],[28,1,29,1],[28,2,29,2],[28,12,29,13],[28,14,29,16],[28,17,29,17],[28,18,29,18],[26,18,27,18],[24,24,25,24],[26,0,27,0],[26,1,27,1],[26,2,27,2],[26,12,27,13],[26,14,27,16],[26,17,27,17],[24,17,25,17],[24,18,25,18],[24,19,25,19],[24,20,25,20],[24,21,25,21],[24,22,25,22],[24,0,25,0],[24,1,25,1],[24,2,25,2],[24,12,25,13],[24,14,25,16],[22,0,23,0],[22,1,23,1],[22,2,23,2],[22,12,23,13],[16,23,18,23],[22,22,23,22],[22,23,23,23],[26,19,27,19],[26,20,27,20],[26,21,27,21],[26,22,27,22],[26,23,27,23],[24,23,25,23],[22,24,23,24],[22,20,23,20],[22,21,23,21],[14,23,14,24],[15,6,15,9],[15,10,15,13],[15,14,15,18],[16,12,18,13],[16,14,18,16],[16,24,18,24],[20,12,20,13],[20,14,20,16],[16,17,18,17],[16,18,18,18],[16,19,18,19],[16,20,18,20],[16,21,18,21],[16,22,18,22],[22,14,23,16],[22,17,23,17],[22,18,23,18],[22,19,23,19],[15,0,15,2],[21,12,21,13],[21,14,21,16],[1,6,3,16],[2,17,3,24],[3,1,3,2],[4,16,4,24],[5,0,5,1],[5,2,5,14],[10,0,10,1],[10,2,10,14],[10,16,10,24],[8,0,8,1],[8,2,8,14],[8,16,8,24],[9,0,9,1],[9,2,9,14],[9,16,9,24],[20,2,20,11],[16,0,18,11],[6,0,6,1],[6,2,6,14],[14,1,14,2],[14,4,14,9],[12,0,12,1],[12,2,12,14],[12,16,12,24],[13,1,13,2],[13,4,13,9],[13,10,13,17],[13,18,13,24],[14,10,14,14],[14,16,14,19],[14,20,14,22],[3,3,3,5],[6,16,6,19],[6,20,6,24],[7,0,7,1],[7,2,7,14],[7,16,7,24],[11,0,11,1],[11,2,11,14],[11,16,11,24],[5,16,5,24]]}
["Analyserekvisition Region Hovedstaden"]
["Prøveafhentning bestilles på tlf: 70 22 42 67 eller 98 21 32 00",null,null,null,null,null,"Luft-orsa"]
[null,null,null,null,null,null,null,null,null,null,null,null,null,null,null,null,null,"       Kontakt Eurofins Tlf. 72 18 72 72                                                               Rekv. mail: 60-reg@eurofins.dk"]
["Tilbuds-/ordrenr.: ","CA0000213008",null,"Regionskontrakt      2024-2027"]
["Rekvirent",null,"Rapport sendes til:",null,null,null,null,null,null,null,null,null,null,null,null,null,"Faktura stiles til:"]
["Firma:",null,{"$f":"Stamdata!C6&\"\"","v":""},null,null,null,null,null,null,null,null,null,null,null,null,null,"Region Hovedstaden"]
["Kontaktperson:",null,{"$f":"Stamdata!C7&\"\"","v":""},null,null,null,null,null,null,null,null,null,null,null,null,null,"Faktura /Personref.:",null,null,null,{"$f":"Stamdata!U7&\"\"","v":""}]
["Adresse:",null,{"$f":"Stamdata!C8&\"\"","v":""},null,null,null,null,null,null,null,null,null,null,null,null,null,{"$f":"Stamdata!Q8&\"\"","v":""}]
["Postnr./By:",null,{"$f":"Stamdata!C9&\"\"","v":""},null,null,null,null,null,null,null,null,null,null,null,null,null,{"$f":"Stamdata!Q9&\"\"","v":""}]
["Tlf/mobil:",null,{"$f":"Stamdata!C10&\"\"","v":""},null,null,null,null,null,null,null,null,null,null,null,null,null,{"$f":"Stamdata!Q10&\"\"","v":""}]
["E-mail:",null,{"$f":"Stamdata!C11&\"\"","v":""},null,null,null,null,null,null,null,null,null,null,null,null,null,{"$f":"Stamdata!Q11&\"\"","v":""}]
["Evt. kopi til:",null,{"$f":"Stamdata!C12&\"\"","v":""},null,null,null,null,null,null,null,null,null,null,null,null,null,{"$f":"Stamdata!Q12&\"\"","v":""}]
["EAN nr.: ",null,{"$f":"Stamdata!C13 &\"\"","v":""},null,null,null,null,null,null,null,null,null,null,null,null,null,{"$f":"Stamdata!Q13 &\"\"","v":""}]
["Lokalitetsnr:",{"$f":"Stamdata!B14&\"\"","v":""},null,"Sagsnr: ",{"$f":"Stamdata!E14&\"\"","v":""},null,null,null,null,null,"Lokalitetsnavn/Sagsnavn:",null,null,null,null,null,null,null,{"$f":"Stamdata!S14&\"\"","v":""}]
["Udtaget (datotid):",{"$f":"IF(Stamdata!B15=0,\"\",Stamdata!B15)","v":""},null,"Indlev. d.:",{"$f":"IF(Stamdata!E15=0,\"\",Stamdata!E15)","v":""},null,null,null,null,null,"Prøvetager:",null,null,null,null,null,{"$f":"Stamdata!N15&\"\"","v":""},null,null,null,"Antal prøver:",null,null,{"$f":"Stamdata!U15&\"\"","v":""}]
["Prøver forventes at være kraftigt forurenet?"]
["Leveringstidskoder:",null,null,null,null,null,null,null,null,null,null,null,"STD.",null,"STD.",null,null,"STD.","STD.","STD.","STD.","STD.","STD.","2 Arb.dag kl.9.00 *","2 Arb.dag kl.9.00 *"]
[]
[null,null,null,null,null,null,null,null,null,null,null,null,null,null,null,null,null,null,null,null,null,null,null,"1 arb.dag kl 12 (R011200)","2 arb.dag kl 12 (R011200)"]
[]
[null,"Ved manglede opsamlingstid opgives resultater i µg/rør",null,null,null,null,null,null,null,null,null,null,"Manuel Håndtering pr. batch",null,"pakkenr/navn",null,null,"pakkenr/navn","pakkenr/navn","pakkenr/navn","pakkenr/navn","pakkenr/navn","pakkenr/navn","HASTE pakkenr/navn","HASTE pakkenr/navn"]
["Lab. nr.                            (udfyldes af lab.)","Opsamlings-tid/min (CAR62)","Dybde m.u.t.","Start/slut kl.","Prøvemærkning/ PrøvestedsID",null,null,null,null,null,null,null,"CAYMA",null,"kode",null,null,"kode","kode","kode","kode","kode","kode","kode","kode"]
[null,null,null,null,null,null,null,null,null,null,null,null,"x"]
[]
[]
[]
[]
[]
[]
[]
["Bemærkninger: "]
["* 2 Arb.dag kl 9 (R020800). Hasteprøver skal altid varsles."]
["Se Regionens tilbudsskema for analyser/priser/leveringstider eller kontakt Eurofins Kundecenter på WQM@etn.eurofins.com eller 72 18 72 72"]
["Vær opmærksom på at det vil være den analyse med længste leveringstid, der vil være gældende for hele prøvens leveringstid. Dermed også hastetillæg ved bestilling af hasteanalyser. "]
["Vær opmærksom på at såfremt prøver ikke udtages i korrekt emballage eller hvis der ikke udtages tilstrækkeligt prøvemateriale til de bestilte analyser, vil der ikke være mulighed for omkørsel eller reanalyse – hvis der skulle blive behov for ny prøvetagning, vil Eurofins ikke forestå omkostningerne til en ny prøveudtagning."]

{"sheet":"Luft-kulrør Region H","index":5,"n_rows":36,"n_cols":25,"rows_kept":36,"cut":false,"hidden":false,"merged":[[24,21,25,21],[24,22,25,22],[28,20,29,20],[28,0,29,0],[28,1,29,1],[28,2,29,2],[21,4,21,5],[24,4,25,5],[28,17,29,17],[28,18,29,18],[28,19,29,19],[21,6,21,7],[21,8,21,13],[24,17,25,17],[24,18,25,18],[24,19,25,19],[28,14,29,16],[28,4,29,5],[22,6,23,7],[24,6,25,7],[26,6,27,7],[28,6,29,7],[35,0,35,24],[14,4,14,9],[22,2,23,2],[22,1,23,1],[22,4,23,5],[26,4,27,5],[24,14,25,16],[22,14,23,16],[20,14,20,16],[21,14,21,16],[16,22,18,22],[16,14,18,16],[16,17,18,17],[22,24,23,24],[22,0,23,0],[24,0,25,0],[24,1,25,1],[24,2,25,2],[22,17,23,17],[15,6,15,9],[15,10,15,13],[15,14,15,18],[20,2,20,13],[14,10,14,14],[16,0,18,13],[30,0,30,24],[15,0,15,2],[13,4,13,9],[13,10,13,17],[13,18,13,24],[14,1,14,2],[31,0,31,24],[33,0,33,24],[16,23,18,23],[16,21,18,21],[16,24,18,24],[16,20,18,20],[24,20,25,20],[14,16,14,19],[28,24,29,24],[26,23,27,23],[26,24,27,24],[24,23,25,23],[24,24,25,24],[22,8,22,13],[23,8,23,13],[24,8,24,13],[25,8,25,13],[34,0,34,24],[22,18,23,18],[22,19,23,19],[22,20,23,20],[22,21,23,21],[22,22,23,22],[26,19,27,19],[26,20,27,20],[26,0,27,0],[26,1,27,1],[26,2,27,2],[26,14,27,16],[26,17,27,17],[26,18,27,18],[22,23,23,23],[28,23,29,23],[26,8,26,13],[27,8,27,13],[28,8,28,13],[29,8,29,13],[28,21,29,21],[28,22,29,22],[26,21,27,21],[26,22,27,22],[1,6,3,16],[2,17,3,24],[3,1,3,2],[4,16,4,24],[5,0,5,1],[5,2,5,14],[8,0,8,1],[8,2,8,14],[8,16,8,24],[3,3,3,5],[5,16,5,24],[9,0,9,1],[9,2,9,14],[9,16,9,24],[6,0,6,1],[6,2,6,14],[14,20,14,22],[14,23,14,24],[16,18,18,18],[16,19,18,19],[12,2,12,14],[12,16,12,24],[6,16,6,19],[6,20,6,24],[7,0,7,1],[7,2,7,14],[7,16,7,24],[12,0,12,1],[10,0,10,1],[10,2,10,14],[10,16,10,24],[11,0,11,1],[11,2,11,14],[11,16,11,24],[13,1,13,2]]}
["Analyserekvisition Region Hovedstaden"]
["Prøveafhentning bestilles på tlf: 70 22 42 67 eller 98 21 32 00",null,null,null,null,null,"Luft-kulrør"]
[null,null,null,null,null,null,null,null,null,null,null,null,null,null,null,null,null,"       Kontakt Eurofins Tlf. 72 18 72 72                                                               Rekv. mail: 60-reg@eurofins.dk"]
["Tilbuds-/ordrenr.: ","CA0000213008",null,"Regionskontrakt         2024-2027"]
["Rekvirent",null,"Rapport sendes til:",null,null,null,null,null,null,null,null,null,null,null,null,null,"Faktura stiles til:"]
["Firma:",null,{"$f":"Stamdata!C6&\"\"","v":""},null,null,null,null,null,null,null,null,null,null,null,null,null,"Region Hovedstaden"]
["Kontaktperson:",null,{"$f":"Stamdata!C7&\"\"","v":""},null,null,null,null,null,null,null,null,null,null,null,null,null,"Faktura /Personref.:",null,null,null,{"$f":"Stamdata!U7&\"\"","v":""}]
["Adresse:",null,{"$f":"Stamdata!C8&\"\"","v":""},null,null,null,null,null,null,null,null,null,null,null,null,null,{"$f":"Stamdata!Q8&\"\"","v":""}]
["Postnr./By:",null,{"$f":"Stamdata!C9&\"\"","v":""},null,null,null,null,null,null,null,null,null,null,null,null,null,{"$f":"Stamdata!Q9&\"\"","v":""}]
["Tlf/mobil:",null,{"$f":"Stamdata!C10&\"\"","v":""},null,null,null,null,null,null,null,null,null,null,null,null,null,{"$f":"Stamdata!Q10&\"\"","v":""}]
["E-mail:",null,{"$f":"Stamdata!C11&\"\"","v":""},null,null,null,null,null,null,null,null,null,null,null,null,null,{"$f":"Stamdata!Q11&\"\"","v":""}]
["Evt. kopi til:",null,{"$f":"Stamdata!C12&\"\"","v":""},null,null,null,null,null,null,null,null,null,null,null,null,null,{"$f":"Stamdata!Q12&\"\"","v":""}]
["EAN nr.: ",null,{"$f":"Stamdata!C13 &\"\"","v":""},null,null,null,null,null,null,null,null,null,null,null,null,null,{"$f":"Stamdata!Q13 &\"\"","v":""}]
["Lokalitetsnr:",{"$f":"Stamdata!B14&\"\"","v":""},null,"Sagsnr: ",{"$f":"Stamdata!E14&\"\"","v":""},null,null,null,null,null,"Lokalitetsnavn/Sagsnavn:",null,null,null,null,null,null,null,{"$f":"Stamdata!S14&\"\"","v":""}]
["Udtaget (datotid):",{"$f":"IF(Stamdata!B15=0,\"\",Stamdata!B15)","v":""},null,"Indlev. d.:",{"$f":"IF(Stamdata!E15=0,\"\",Stamdata!E15)","v":""},null,null,null,null,null,"Prøvetager:",null,null,null,null,null,{"$f":"Stamdata!N15&\"\"","v":""},null,null,null,"Antal prøver:",null,null,{"$f":"Stamdata!U15&\"\"","v":""}]
["Prøver forventes at være kraftigt forurenet?"]
["Leveringstidskoder:",null,null,null,null,null,null,null,null,null,null,null,null,null,"STD.",null,null,"STD.","STD.","STD.","STD.","STD.","STD.","2 Arb.dag kl.9.00 *","2 Arb.dag kl.9.00 *"]
[]
[null,null,null,null,null,null,null,null,null,null,null,null,null,null,null,null,null,null,null,null,null,null,null,"1 arb.dag kl 12 (R011200)","2 arb.dag kl 12 (R011200)"]
[]
[null,"Ved manglede luftmængde opgives resultater i µg/rør",null,null,null,null,null,null,null,null,null,null,null,null,"Manuel Håndtering pr. batch",null,null,"pakkenr/navn","pakkenr/navn","pakkenr/navn","pakkenr/navn","pakkenr/navn","pakkenr/navn","HASTE pakkenr/navn","HASTE pakkenr/navn"]
["Lab. nr.                            (udfyldes af lab.)","Luft-mængde/L\n(CAR60)","Dybde m.u.t. (CAR00)","Start/slut\nklokkeslæt\n(CART3,T4)","Flow l/min (CAR2Y)",null,"mod-\ntryk\n(mbar) (CARG1)",null,"Prøvemærkning/ PrøvestedsID\nDGU - filterrør",null,null,null,null,null,"CAYMA",null,null,"kode","kode","kode","kode","kode","kode","kode","kode"]
[null,null,null,null,null,null,null,null,null,null,null,null,null,null,"X"]
[]
[]
[]
[]
[]
[]
[]
["Opsamlet luftmængde opgives i liter. Ved gennembrud må forventes længere leveringstid samt merpris, da B-røret skal tages i arbejde"]
["Bemærkninger: "]
["* 2 Arb.dag kl 9 (R020800). Hasteprøver skal altid varsles."]
["Se Regionens tilbudsskema for analyser/priser/leveringstider eller kontakt Eurofins Kundecenter på WQM@etn.eurofins.com eller 72 18 72 72"]
["Vær opmærksom på at det vil være den analyse med længste leveringstid, der vil være gældende for hele prøvens leveringstid. Dermed også hastetillæg ved bestilling af hasteanalyser. "]
["Vær opmærksom på at såfremt prøver ikke udtages i korrekt emballage eller hvis der ikke udtages tilstrækkeligt prøvemateriale til de bestilte analyser, vil der ikke være mulighed for omkørsel eller reanalyse – hvis der skulle blive behov for ny prøvetagning, vil Eurofins ikke forestå omkostningerne til en ny prøveudtagning."]

{"sheet":"Luft-ATD Region H","index":6,"n_rows":36,"n_cols":25,"rows_kept":36,"cut":false,"hidden":false,"merged":[[31,0,31,24],[33,0,33,24],[34,0,34,24],[35,0,35,24],[21,4,21,11],[30,4,30,5],[30,6,30,7],[30,8,30,9],[30,10,30,11],[30,12,30,13],[30,14,30,16],[28,19,29,19],[28,20,29,20],[28,21,29,21],[28,22,29,22],[28,23,29,23],[28,24,29,24],[26,23,27,23],[26,24,27,24],[28,0,29,0],[28,1,29,1],[28,2,29,2],[28,4,29,11],[28,12,29,13],[28,14,29,16],[28,17,29,17],[28,18,29,18],[26,17,27,17],[26,18,27,18],[26,19,27,19],[26,20,27,20],[26,21,27,21],[26,22,27,22],[26,0,27,0],[26,1,27,1],[26,2,27,2],[26,4,27,11],[26,12,27,13],[26,14,27,16],[24,19,25,19],[24,20,25,20],[24,21,25,21],[24,22,25,22],[24,23,25,23],[24,24,25,24],[22,23,23,23],[22,24,23,24],[24,0,25,0],[24,1,25,1],[24,2,25,2],[24,4,25,11],[24,12,25,13],[24,14,25,16],[24,17,25,17],[24,18,25,18],[22,17,23,17],[22,18,23,18],[22,19,23,19],[22,20,23,20],[22,21,23,21],[22,22,23,22],[21,12,21,13],[21,14,21,16],[22,0,23,0],[22,1,23,1],[22,2,23,2],[22,4,23,11],[22,12,23,13],[22,14,23,16],[16,23,18,23],[15,6,15,9],[15,10,15,13],[15,14,15,18],[16,12,18,13],[16,14,18,16],[15,0,15,2],[16,0,18,11],[16,24,18,24],[20,12,20,13],[20,14,20,16],[16,17,18,17],[16,18,18,18],[16,19,18,19],[16,20,18,20],[16,21,18,21],[16,22,18,22],[20,3,20,11],[14,1,14,2],[14,4,14,9],[12,0,12,1],[12,2,12,14],[12,16,12,24],[13,1,13,2],[13,4,13,9],[13,10,13,17],[13,18,13,24],[14,10,14,14],[14,16,14,19],[14,20,14,22],[14,23,14,24],[10,0,10,1],[10,2,10,14],[10,16,10,24],[11,0,11,1],[11,2,11,14],[11,16,11,24],[8,0,8,1],[8,2,8,14],[8,16,8,24],[9,0,9,1],[9,2,9,14],[9,16,9,24],[6,0,6,1],[6,2,6,14],[6,16,6,19],[6,20,6,24],[7,0,7,1],[7,2,7,14],[7,16,7,24],[1,6,3,16],[2,17,3,24],[3,1,3,2],[4,16,4,24],[5,0,5,1],[5,2,5,14],[3,3,3,5],[5,16,5,24]]}
["Analyserekvisition Region Hovedstaden"]
["Prøveafhentning bestilles på tlf: 70 22 42 67 eller 98 21 32 00",null,null,null,null,null,"Luft-ATD"]
[null,null,null,null,null,null,null,null,null,null,null,null,null,null,null,null,null,"       Kontakt Eurofins Tlf. 72 18 72 72                                                               Rekv. mail: 60-reg@eurofins.dk"]
["Tilbuds-/ordrenr.: ","CA0000213008",null,"Regionskontrakt         2024-2027"]
["Rekvirent",null,"Rapport sendes til:",null,null,null,null,null,null,null,null,null,null,null,null,null,"Faktura stiles til:"]
["Firma:",null,{"$f":"Stamdata!C6&\"\"","v":""},null,null,null,null,null,null,null,null,null,null,null,null,null,"Region Hovedstaden"]
["Kontaktperson:",null,{"$f":"Stamdata!C7&\"\"","v":""},null,null,null,null,null,null,null,null,null,null,null,null,null,"Faktura /Personref.:",null,null,null,{"$f":"Stamdata!U7&\"\"","v":""}]
["Adresse:",null,{"$f":"Stamdata!C8&\"\"","v":""},null,null,null,null,null,null,null,null,null,null,null,null,null,{"$f":"Stamdata!Q8&\"\"","v":""}]
["Postnr./By:",null,{"$f":"Stamdata!C9&\"\"","v":""},null,null,null,null,null,null,null,null,null,null,null,null,null,{"$f":"Stamdata!Q9&\"\"","v":""}]
["Tlf/mobil:",null,{"$f":"Stamdata!C10&\"\"","v":""},null,null,null,null,null,null,null,null,null,null,null,null,null,{"$f":"Stamdata!Q10&\"\"","v":""}]
["E-mail:",null,{"$f":"Stamdata!C11&\"\"","v":""},null,null,null,null,null,null,null,null,null,null,null,null,null,{"$f":"Stamdata!Q11&\"\"","v":""}]
["Evt. kopi til:",null,{"$f":"Stamdata!C12&\"\"","v":""},null,null,null,null,null,null,null,null,null,null,null,null,null,{"$f":"Stamdata!Q12&\"\"","v":""}]
["EAN nr.: ",null,{"$f":"Stamdata!C13 &\"\"","v":""},null,null,null,null,null,null,null,null,null,null,null,null,null,{"$f":"Stamdata!Q13 &\"\"","v":""}]
["Lokalitetsnr:",{"$f":"Stamdata!B14&\"\"","v":""},null,"Sagsnr: ",{"$f":"Stamdata!E14&\"\"","v":""},null,null,null,null,null,"Lokalitetsnavn/Sagsnavn:",null,null,null,null,null,null,null,{"$f":"Stamdata!S14&\"\"","v":""}]
["Udtaget (datotid):",{"$f":"IF(Stamdata!B15=0,\"\",Stamdata!B15)","v":""},null,"Indlev. d.:",{"$f":"IF(Stamdata!E15=0,\"\",Stamdata!E15)","v":""},null,null,null,null,null,"Prøvetager:",null,null,null,null,null,{"$f":"Stamdata!N15&\"\"","v":""},null,null,null,"Antal prøver:",null,null,{"$f":"Stamdata!U15&\"\"","v":""}]
["Prøver forventes at være kraftigt forurenet?"]
["Leveringstidskoder:",null,null,null,null,null,null,null,null,null,null,null,"STD.",null,"STD.",null,null,"STD.","STD.","STD.","STD.","STD.","STD.","STD.","STD."]
[]
[]
[]
[null,"Passiv måling","Aktiv måling",null,null,null,null,null,null,null,null,null,"Manuel Håndtering pr. batch",null,"pakkenr/navn",null,null,"pakkenr/navn","pakkenr/navn","pakkenr/navn","pakkenr/navn","pakkenr/navn","pakkenr/navn","pakkenr/navn","pakkenr/navn"]
["Lab. nr.                            (udfyldes af lab.)","Opsamlingstid/min (CAR62)","Luftvolume L (CAR60)",null,"Prøvemærkning/ PrøvestedID",null,null,null,null,null,null,null,"CAYMA",null,"kode",null,null,"kode","kode","kode","kode","kode","kode","kode","kode"]
[null,null,null,"H-rør",null,null,null,null,null,null,null,null,"X"]
[null,null,null,"R-rør"]
[null,null,null,"H-rør"]
[null,null,null,"R-rør"]
[null,null,null,"H-rør"]
[null,null,null,"R-rør"]
[null,null,null,"H-rør"]
[null,null,null,"R-rør"]
[]
["Bemærkninger: "]
[]
["Se Regionens tilbudsskema analyser/priser/leveringstider eller kontakt Eurofins Kundecenter på G30@eurofins.dk eller 72 18 72 72"]
["Vær opmærksom på at det vil være den analyse med længste leveringstid, der vil være gældende for hele prøvens leveringstid. Dermed også hastetillæg ved bestilling af hasteanalyser. "]
["Vær opmærksom på at såfremt prøver ikke udtages i korrekt emballage eller hvis der ikke udtages tilstrækkeligt prøvemateriale til de bestilte analyser, vil der ikke være mulighed for omkørsel eller reanalyse – hvis der skulle blive behov for ny prøvetagning, vil Eurofins ikke forestå omkostningerne til en ny prøveudtagning."]

{"sheet":"Jord Arkivprøver Region H","index":7,"n_rows":35,"n_cols":24,"rows_kept":35,"cut":false,"hidden":false,"merged":[[5,16,5,24],[32,0,32,24],[1,6,3,16],[2,17,3,24],[3,1,3,2],[3,3,3,5],[4,16,4,24],[5,0,5,1],[5,2,5,14],[8,0,8,1],[8,2,8,14],[8,16,8,24],[9,0,9,1],[9,2,9,14],[9,16,9,24],[6,0,6,1],[6,2,6,14],[6,16,6,19],[6,20,6,24],[7,0,7,1],[7,2,7,14],[7,16,7,24],[14,23,14,24],[12,0,12,1],[12,2,12,14],[12,16,12,24],[13,1,13,2],[13,4,13,9],[13,10,13,17],[13,18,13,24],[10,0,10,1],[10,2,10,14],[10,16,10,24],[11,0,11,1],[11,2,11,14],[11,16,11,24],[15,0,15,2],[15,6,15,9],[15,10,15,13],[15,14,15,18],[14,1,14,2],[14,4,14,9],[14,10,14,14],[14,16,14,19],[14,20,14,22],[21,2,21,3],[21,4,21,5],[21,6,21,7],[21,8,21,9],[21,10,21,11],[21,12,21,13],[20,2,20,3],[20,4,20,5],[20,6,20,7],[20,8,20,9],[20,10,20,11],[20,12,20,13],[23,2,23,3],[23,4,23,5],[23,6,23,7],[23,8,23,9],[23,10,23,11],[23,12,23,13],[22,2,22,3],[22,4,22,5],[22,6,22,7],[22,8,22,9],[22,10,22,11],[22,12,22,13],[25,8,25,9],[25,10,25,11],[25,12,25,13],[24,14,24,17],[25,14,25,17],[24,2,24,3],[24,4,24,5],[24,6,24,7],[24,8,24,9],[24,10,24,11],[24,12,24,13],[33,0,33,24],[34,0,34,24],[20,14,20,17],[21,14,21,17],[22,14,22,17],[23,14,23,17],[30,2,30,3],[30,4,30,5],[30,6,30,7],[30,8,30,9],[30,10,30,11],[30,12,30,13],[29,2,29,3],[29,4,29,5],[29,6,29,7],[29,8,29,9],[29,10,29,11],[29,12,29,13],[29,14,29,17],[26,4,26,5],[26,6,26,7],[26,8,26,9],[26,10,26,11],[26,12,26,13],[31,0,31,24],[25,2,25,3],[25,4,25,5],[28,12,28,13],[28,14,28,17],[30,14,30,17],[17,1,17,6],[17,7,17,11],[17,12,17,24],[28,2,28,3],[28,4,28,5],[28,6,28,7],[28,8,28,9],[28,10,28,11],[27,2,27,3],[27,4,27,5],[27,6,27,7],[27,8,27,9],[27,10,27,11],[27,12,27,13],[26,14,26,17],[27,14,27,17],[26,2,26,3],[25,6,25,7]]}
["Analyserekvisition Region Hovedstaden"]
["Prøveafhentning bestilles på tlf: 70 22 42 67 eller 98 21 32 00",null,null,null,null,null,"Jord\nArkivprøver"]
[null,null,null,null,null,null,null,null,null,null,null,null,null,null,null,null,null,"       Kontakt Eurofins Tlf. 72 18 72 72                                                               Rekv. mail: 60-reg@eurofins.dk"]
["Tilbuds-/ordrenr.: ","CA0000213010",null,"Regionskontrakt         2024-2027"]
["Rekvirent",null,"Rapport sendes til:",null,null,null,null,null,null,null,null,null,null,null,null,null,"Faktura stiles til:"]
["Firma:",null,{"$f":"Stamdata!C6&\"\"","v":""},null,null,null,null,null,null,null,null,null,null,null,null,null,"Region Hovedstaden"]
["Kontaktperson:",null,{"$f":"Stamdata!C7&\"\"","v":""},null,null,null,null,null,null,null,null,null,null,null,null,null,"Faktura /Personref.:",null,null,null,{"$f":"Stamdata!U7&\"\"","v":""}]
["Adresse:",null,{"$f":"Stamdata!C8&\"\"","v":""},null,null,null,null,null,null,null,null,null,null,null,null,null,{"$f":"Stamdata!Q8&\"\"","v":""}]
["Postnr./By:",null,{"$f":"Stamdata!C9&\"\"","v":""},null,null,null,null,null,null,null,null,null,null,null,null,null,{"$f":"Stamdata!Q9&\"\"","v":""}]
["Tlf/mobil:",null,{"$f":"Stamdata!C10&\"\"","v":""},null,null,null,null,null,null,null,null,null,null,null,null,null,{"$f":"Stamdata!Q10&\"\"","v":""}]
["E-mail:",null,{"$f":"Stamdata!C11&\"\"","v":""},null,null,null,null,null,null,null,null,null,null,null,null,null,{"$f":"Stamdata!Q11&\"\"","v":""}]
["Evt. kopi til:",null,{"$f":"Stamdata!C12&\"\"","v":""},null,null,null,null,null,null,null,null,null,null,null,null,null,{"$f":"Stamdata!Q12&\"\"","v":""}]
["EAN nr.: ",null,{"$f":"Stamdata!C13 &\"\"","v":""},null,null,null,null,null,null,null,null,null,null,null,null,null,{"$f":"Stamdata!Q13 &\"\"","v":""}]
["Lokalitetsnr:",{"$f":"Stamdata!B14 &\"\"","v":""},null,"Sagsnr: ",{"$f":"Stamdata!E14&\"\"","v":""},null,null,null,null,null,"Lokalitetsnavn/Sagsnavn:",null,null,null,null,null,null,null,{"$f":"Stamdata!S14&\"\"","v":""}]
["Udtaget (datotid):",{"$f":"IF(Stamdata!B15=0,\"\",Stamdata!B15)","v":""},null,"Indlev. d.:",{"$f":"IF(Stamdata!E15=0,\"\",Stamdata!E15)","v":""},null,null,null,null,null,"Prøvetager:",null,null,null,null,null,{"$f":"Stamdata!N15&\"\"","v":""},null,null,null,"Antal prøver:",null,null,{"$f":"Stamdata!U15&\"\"","v":""}]
["Prøver forventes at være kraftigt forurenet?"]
["Opbevaringstid*:"]
["Dato fra: ",null,null,null,null,null,null,"Dato til: "]
[]
[]
["Glassene må max. fyldes 1/3( ca. 50 g).  Påsæt stregkodelabels. Husk samme stregkodelabel til samme prøve.",null,null,null,null,null,null,null,"Opbevaring af jordprøver i \n30 kalenderdage*",null,"Opbevaring af jordprøver i \n60 kalenderdage*",null,"Opbevaring af jordprøver i 90 kalenderdage*"]
["Lab. nr.                            (udfyldes af lab.)","Dybde m.u.t. (CAR00)","PrøvestedID \n(boringsnr/DGU/prøvestedsnavn)",null,null,null,null,null,"AAA",null,"AAB",null,"AAC"]
[]
[]
[]
[]
[]
[]
[]
[]
[]
["Bemærkninger: "]
["* Prøverne bortskaffes og faktureres efter opbevaringsperiodens udløb. "]
["Se Regionens tilbudsskema for analyser/priser/leveringstider eller kontakt Eurofins Kundecenter på G30@eurofins.dk eller 72 18 72 72"]
["Vær opmærksom på at såfremt prøver ikke udtages i korrekt emballage eller hvis der ikke udtages tilstrækkeligt prøvemateriale til de bestilte analyser, vil der ikke være mulighed for omkørsel eller reanalyse – hvis der skulle blive behov for ny prøvetagning, vil Eurofins ikke forestå omkostningerne til en ny prøveudtagning."]